BEGIN:VCALENDAR
VERSION:2.0
PRODID:-//Iron Horse Cigar Depot - ECPv6.3.5//NONSGML v1.0//EN
CALSCALE:GREGORIAN
METHOD:PUBLISH
X-ORIGINAL-URL:https://ironhorsecigardepot.com
X-WR-CALDESC:Events for Iron Horse Cigar Depot
REFRESH-INTERVAL;VALUE=DURATION:PT1H
X-Robots-Tag:noindex
X-PUBLISHED-TTL:PT1H
BEGIN:VTIMEZONE
TZID:America/New_York
BEGIN:DAYLIGHT
TZOFFSETFROM:-0500
TZOFFSETTO:-0400
TZNAME:EDT
DTSTART:20220313T070000
END:DAYLIGHT
BEGIN:STANDARD
TZOFFSETFROM:-0400
TZOFFSETTO:-0500
TZNAME:EST
DTSTART:20221106T060000
END:STANDARD
END:VTIMEZONE
BEGIN:VEVENT
DTSTART;TZID=America/New_York:20220604T120000
DTEND;TZID=America/New_York:20220604T170000
DTSTAMP:20260421T052136
CREATED:20220601T145836Z
LAST-MODIFIED:20220601T153526Z
UID:1291-1654344000-1654362000@ironhorsecigardepot.com
SUMMARY:Grand Opening for Iron Horse Cigar Depot and Hudson Bagel/My Italian Friend's Place
DESCRIPTION:Iron Horse Cigar Depot and Hudson Bagel’s Grand Opening Poster
URL:https://ironhorsecigardepot.com/event/grand-opening-for-iron-horse-cigar-depot-and-hudson-bagel-my-italian-friends-place/
LOCATION:Iron Horse Cigar Depot\, 93 Ten Broeck Avenue\, Hudson\, NY\, 12534\, United States
CATEGORIES:all
END:VEVENT
END:VCALENDAR