BEGIN:VCALENDAR
VERSION:2.0
PRODID:-//Iron Horse Cigar Depot - ECPv6.3.5//NONSGML v1.0//EN
CALSCALE:GREGORIAN
METHOD:PUBLISH
X-WR-CALNAME:Iron Horse Cigar Depot
X-ORIGINAL-URL:https://ironhorsecigardepot.com
X-WR-CALDESC:Events for Iron Horse Cigar Depot
REFRESH-INTERVAL;VALUE=DURATION:PT1H
X-Robots-Tag:noindex
X-PUBLISHED-TTL:PT1H
BEGIN:VTIMEZONE
TZID:America/New_York
BEGIN:DAYLIGHT
TZOFFSETFROM:-0500
TZOFFSETTO:-0400
TZNAME:EDT
DTSTART:20220313T070000
END:DAYLIGHT
BEGIN:STANDARD
TZOFFSETFROM:-0400
TZOFFSETTO:-0500
TZNAME:EST
DTSTART:20221106T060000
END:STANDARD
END:VTIMEZONE
BEGIN:VEVENT
DTSTART;TZID=America/New_York:20220622T173000
DTEND;TZID=America/New_York:20220622T210000
DTSTAMP:20260421T051601
CREATED:20220601T150038Z
LAST-MODIFIED:20220615T180206Z
UID:1293-1655919000-1655931600@ironhorsecigardepot.com
SUMMARY:Annarella's Restaurant Cigar Event
DESCRIPTION:Padron Cigar Annarella’s Restaurant Event Flyer
URL:https://ironhorsecigardepot.com/event/annarellas-restaurant-cigar-event/
LOCATION:Annarella’s Restaurant\, 276 Malden Turnpike\, Saugerties\, NY\, 12477\, United States
CATEGORIES:all
END:VEVENT
END:VCALENDAR