BEGIN:VCALENDAR
VERSION:2.0
PRODID:-//Iron Horse Cigar Depot - ECPv6.3.5//NONSGML v1.0//EN
CALSCALE:GREGORIAN
METHOD:PUBLISH
X-WR-CALNAME:Iron Horse Cigar Depot
X-ORIGINAL-URL:https://ironhorsecigardepot.com
X-WR-CALDESC:Events for Iron Horse Cigar Depot
REFRESH-INTERVAL;VALUE=DURATION:PT1H
X-Robots-Tag:noindex
X-PUBLISHED-TTL:PT1H
BEGIN:VTIMEZONE
TZID:America/New_York
BEGIN:DAYLIGHT
TZOFFSETFROM:-0500
TZOFFSETTO:-0400
TZNAME:EDT
DTSTART:20220313T070000
END:DAYLIGHT
BEGIN:STANDARD
TZOFFSETFROM:-0400
TZOFFSETTO:-0500
TZNAME:EST
DTSTART:20221106T060000
END:STANDARD
END:VTIMEZONE
BEGIN:VEVENT
DTSTART;TZID=America/New_York:20220813T100000
DTEND;TZID=America/New_York:20220813T180000
DTSTAMP:20260421T012201
CREATED:20220725T182818Z
LAST-MODIFIED:20220725T182818Z
UID:1332-1660384800-1660413600@ironhorsecigardepot.com
SUMMARY:Quad State Herf
DESCRIPTION:3 Tickets available for this event. \nContact Roy at the Shop if you would like to attend! \nFirst Come First Served \n518-828-1505 \nDetails here from Charles Baranyai: \nHear ye\, hear ye\, this year’s Quad State Herf & Cigar B Que 17 fund raiser is a go. With the all the calls and messages\, the event is already SOLD OUT. \nThe date will be Saturday\, August 13th\, from 1000 (10am) until dusk (roughly 1800 / 6pm) and the location again is West Point’s Recreational Area – Lake Frederick. As always\, it will be a day of relaxation\, enjoying great BBQ (prepared by Sean Keever and his crew – Big Guns BBQ) and a number of outdoor events\, i.e.\, volleyball\, horse shoes\, swimming\, kayaking and much more. \nThe cost to attend this year’s event is $100.00 per person (first time in years we raised the price as a result of everything going up). The benefit of the event this year will be “Play For Your Freedom”\, http://www.playforyourfreedom.org/ as well as the “Hudson Valley Honor Flight”\, https://hvhonorflight.com. \nAs always\, the first 250 guest will receive a very nice “goodie bag” and there will be plenty of stuff being raffled off at the event along with various silent auction items. \nAn annual event for friends and family to enjoy a day of fine cigars\, food and drink while giving back to the veterans who have served our great nation.
URL:https://ironhorsecigardepot.com/event/quad-state-herf/
LOCATION:West Point Recreational Area – Lake Frederick\, 54 Lake Frederick Rd\, Highland Mills\, NY\, 10930\, United States
CATEGORIES:all
END:VEVENT
END:VCALENDAR