BEGIN:VCALENDAR
VERSION:2.0
PRODID:-//Iron Horse Cigar Depot - ECPv6.3.5//NONSGML v1.0//EN
CALSCALE:GREGORIAN
METHOD:PUBLISH
X-WR-CALNAME:Iron Horse Cigar Depot
X-ORIGINAL-URL:https://ironhorsecigardepot.com
X-WR-CALDESC:Events for Iron Horse Cigar Depot
REFRESH-INTERVAL;VALUE=DURATION:PT1H
X-Robots-Tag:noindex
X-PUBLISHED-TTL:PT1H
BEGIN:VTIMEZONE
TZID:America/New_York
BEGIN:DAYLIGHT
TZOFFSETFROM:-0500
TZOFFSETTO:-0400
TZNAME:EDT
DTSTART:20230312T070000
END:DAYLIGHT
BEGIN:STANDARD
TZOFFSETFROM:-0400
TZOFFSETTO:-0500
TZNAME:EST
DTSTART:20231105T060000
END:STANDARD
END:VTIMEZONE
BEGIN:VEVENT
DTSTART;TZID=America/New_York:20230518T170000
DTEND;TZID=America/New_York:20230518T200000
DTSTAMP:20260420T083531
CREATED:20230505T185659Z
LAST-MODIFIED:20230505T185659Z
UID:1399-1684429200-1684440000@ironhorsecigardepot.com
SUMMARY:Tequila & Cigar Night
DESCRIPTION:Tequila and Cigar Night at Columbia Golf and Country Club\nOpen to the Public \n$75.00 per person\, buffet dinner\, 2 cigars\, and tequila tasting\, cash bar \nCall 518-828-1505 to Reserve a Seat \nor \nClub Members can call the Club Restaurant or the Cigar Shop to Reserve a seat.
URL:https://ironhorsecigardepot.com/event/tequila-cigar-night/
LOCATION:Columbia Golf and Country Club\, 295 NY-217\, Claverack\, NY\, 12513\, United States
CATEGORIES:all
ATTACH;FMTTYPE=image/jpeg:https://ironhorsecigardepot.com/wp-content/uploads/2023/05/Tequila-Cigar-Night.jpg
ORGANIZER;CN="Iron Horse Cigar Depot":MAILTO:ironhorsecigardepot@gmail.com
END:VEVENT
END:VCALENDAR